BEGIN:VCALENDAR
VERSION:2.0
PRODID:-//hacksw/handcal//NONSGML v1.0//EN
BEGIN:VEVENT
SUMMARY:GENNES SUR GLAIZE
UID:604f4bb9-d78f-4e10-8c5c-769f17179e92
DTSTART:20260411T220000Z
DTEND:20260412T220000Z
LOCATION:Localisation   
CATEGORIES:Sportif
STATUS:
URL;VALUE=URI:https://www.comitecyclisme53.com/evenements/2026/04/12/gennes-sur-glaize-2440955
END:VEVENT
END:VCALENDAR
