BEGIN:VCALENDAR
VERSION:2.0
PRODID:-//hacksw/handcal//NONSGML v1.0//EN
BEGIN:VEVENT
SUMMARY:GAVRAY
UID:595c7728-af40-4f94-ae3b-55483a8d5b7a
DTSTART:20260411T220000Z
DTEND:20260412T220000Z
LOCATION:Localisation   
CATEGORIES:Sportif
STATUS:
URL;VALUE=URI:https://www.comitecyclisme53.com/evenements/2026/04/12/gavray-2440963
END:VEVENT
END:VCALENDAR
