BEGIN:VCALENDAR
VERSION:2.0
PRODID:-//hacksw/handcal//NONSGML v1.0//EN
BEGIN:VEVENT
SUMMARY:GORRON
UID:29c58379-b5f4-4a7c-a9e1-67c3c75ad080
DTSTART:20260410T220000Z
DTEND:20260411T220000Z
LOCATION:Localisation   
CATEGORIES:Sportif
STATUS:
URL;VALUE=URI:https://www.comitecyclisme53.com/evenements/2026/04/11/gorron-2440961
END:VEVENT
END:VCALENDAR
