BEGIN:VCALENDAR
VERSION:2.0
PRODID:-//hacksw/handcal//NONSGML v1.0//EN
BEGIN:VEVENT
SUMMARY:TBE CLASSEMENT GENERAL
UID:f5a591f9-f160-4ee8-8f93-801790e432d4
DTSTART:20260327T230000Z
DTEND:20260329T230000Z
LOCATION:Localisation   
CATEGORIES:Sportif
STATUS:
URL;VALUE=URI:https://www.comitecyclisme53.com/evenements/2026/03/28/tbe-classement-general-2435273
END:VEVENT
END:VCALENDAR
